BEGIN:VCALENDAR
VERSION:2.0
PRODID:-//Randburg Chamber of Commerce and Industry - ECPv6.15.20//NONSGML v1.0//EN
CALSCALE:GREGORIAN
METHOD:PUBLISH
X-WR-CALNAME:Randburg Chamber of Commerce and Industry
X-ORIGINAL-URL:https://rcci.co.za
X-WR-CALDESC:Events for Randburg Chamber of Commerce and Industry
REFRESH-INTERVAL;VALUE=DURATION:PT1H
X-Robots-Tag:noindex
X-PUBLISHED-TTL:PT1H
BEGIN:VTIMEZONE
TZID:Africa/Johannesburg
BEGIN:STANDARD
TZOFFSETFROM:+0200
TZOFFSETTO:+0200
TZNAME:SAST
DTSTART:20160101T000000
END:STANDARD
END:VTIMEZONE
BEGIN:VEVENT
DTSTART;TZID=Africa/Johannesburg:20170613T090000
DTEND;TZID=Africa/Johannesburg:20170613T120000
DTSTAMP:20260424T205340
CREATED:20170607T125231Z
LAST-MODIFIED:20170608T140803Z
UID:4393-1497344400-1497355200@rcci.co.za
SUMMARY:Twin Pillars Of Business Success
DESCRIPTION:Twin Pillars Of Business Success\n1. Finance & Legal For Entrepreneurs\nPresented by Novate – Innovative Attorney Services \n\nNegotiating the deal for success;\nStandard Terms and Conditions;\nDebt Collection;\nBasic contracts a business needs for risk management\n\n2. How To Access Funding\nPresented by Jozi SME Hub/The Business Place \nThe workshop will be presented by our Funding Facilitation department and they will be going through the different types of funding and requirements needed for one to access these funds. These will include; start-up\, expansion\, contract\, tender and purchase order funding. \nMembers are welcome to come with all the questions they have regarding funding and their funding needs and we will gladly assist.
URL:https://rcci.co.za/event/jozi-sme-hubthe-business-place-funding-facilitation-workshop/
LOCATION:RCCI Head Office\, Unit G8 Atrium Terraces    272 Oak Avenue     Randburg\, Johannesburg\, Gauteng\, 2194\, South Africa
CATEGORIES:Workshop
ATTACH;FMTTYPE=image/png:https://rcci.co.za/wp-content/uploads/2017/06/Twin-Pillars-Of-Success.png
END:VEVENT
BEGIN:VEVENT
DTSTART;TZID=Africa/Johannesburg:20170609T120000
DTEND;TZID=Africa/Johannesburg:20170609T130000
DTSTAMP:20260424T205340
CREATED:20170601T091544Z
LAST-MODIFIED:20170601T091544Z
UID:4345-1497009600-1497013200@rcci.co.za
SUMMARY:Strategy Session: Get More Website Visitors and Customers
DESCRIPTION:Derrick Markotter from IdealMedia Marketing will break down a strategy that local business owners can use to get more website visitors and turn them into customers. \nThis strategy covers getting your website working properly\, creating awesome content\, getting more website visitors\, turning them into leads and following up with them. \nTo RSVP\, please visit the Meetup.com page for this event: https://www.meetup.com/Acquire-Local-Customers-For-Your-Business/events/240314738/
URL:https://rcci.co.za/event/strategy-session-get-website-visitors-customers/
LOCATION:RCCI Head Office\, Unit G8 Atrium Terraces    272 Oak Avenue     Randburg\, Johannesburg\, Gauteng\, 2194\, South Africa
CATEGORIES:Free Event
ATTACH;FMTTYPE=image/jpeg:https://rcci.co.za/wp-content/uploads/2017/06/How-to-Get.jpg
ORGANIZER;CN="Derrick Markotter":MAILTO:derrick@idealmedia.co.za
END:VEVENT
BEGIN:VEVENT
DTSTART;TZID=Africa/Johannesburg:20170522T083000
DTEND;TZID=Africa/Johannesburg:20170522T133000
DTSTAMP:20260424T205340
CREATED:20170509T063050Z
LAST-MODIFIED:20170509T063050Z
UID:4272-1495441800-1495459800@rcci.co.za
SUMMARY:Information Session on Labour Issues and Governance in SMMEs
DESCRIPTION:Venue:\nRCCI – 272 Oak Ave: Atrium Terraces\, Randburg\n\n\nDate:\nMonday 22 May 2017\n\n\nRegistration:\n8:30am to 9am\n\n\nStarting Time:\n9am to 1:30pm\n\n\nCost:\nR200 for Members and R300 for non-members\n\n\n \nIncludes course materials\, tea/coffee\, finger lunches and parking\n              \nSECTION 1:  Reclaiming Management Prerogative at the Workplace \n\nThe key employee rights that impinge on management prerogative.\nTrade union rights that threaten management’s right to manage.\nInsubordination – a growing cancer.\nWho is the boss? – The labour law rights of employers.\nOptimising management rights at the workplace.\nRegaining management prerogative through workforce management expertise and through economic reform.\n\n\nSECTION 2: The value to SMEs making themselves better understood by banks and investors\, by growing into correct governance \n\nThe business case for SME governance.\nDeveloping divers decision making through early development of a board.\nSuccession planning.\nFamily governance – separating family governance from company governance – why this is important?
URL:https://rcci.co.za/event/information-session-labour-issues-governance-smmes/
LOCATION:RCCI Head Office\, Unit G8 Atrium Terraces    272 Oak Avenue     Randburg\, Johannesburg\, Gauteng\, 2194\, South Africa
ORGANIZER;CN="Linda Blackbeard":MAILTO:manager@rcci.co.za
END:VEVENT
BEGIN:VEVENT
DTSTART;TZID=Africa/Johannesburg:20170509T120000
DTEND;TZID=Africa/Johannesburg:20170509T140000
DTSTAMP:20260424T205340
CREATED:20170505T134558Z
LAST-MODIFIED:20170505T134558Z
UID:4261-1494331200-1494338400@rcci.co.za
SUMMARY:Portuguese Trade Mission – Invitation to Networking Business Session
DESCRIPTION:
URL:https://rcci.co.za/event/portuguese-trade-mission-invitation-networking-business-session/
LOCATION:GIC\, The Place\, 1 Sandton Drive\, Johannesburg\, Gauteng\, South Africa
CATEGORIES:Networking Event
ATTACH;FMTTYPE=image/png:https://rcci.co.za/wp-content/uploads/2017/05/ggda-logo.png
END:VEVENT
BEGIN:VEVENT
DTSTART;VALUE=DATE:20170424
DTEND;VALUE=DATE:20170426
DTSTAMP:20260424T205340
CREATED:20170215T065415Z
LAST-MODIFIED:20170316T141101Z
UID:3865-1492992000-1493164799@rcci.co.za
SUMMARY:Export Boot Camp
DESCRIPTION:RCCI in partnership with UA Sales is hosting an EXPORT BOOT CAMP on the 24 & 25 April 2017. \nTime: 8am to 8:30am is registration\, and the day ends at 4pm\nVenue: Randburg Chamber of Commerce and Industry Training Room \nThis two-day workshop will kick start your learning process by providing all the necessary training to ensure that the learner has an understanding of best inter-processes\, South African government statutory requirements and how to import. \nThe content of this course covers the real-world application of how to effectively handle the technical aspect of export procedures. It is highly practical and will also highlight potential problems that could arise from not understanding processes and how to evade the pitfalls relating to exports! \nPractical exercises and the necessary documents are included in this workshop which will provide delegates with the need-to-know information and practical skills which can be easily implemented in the work-place. We have extended the time each day and focused our topics to cover the need to know! \nThe cost of the workshop is R3 450.00 per person for two days including meals\, parking\, workbook and CD Rom with all presentations. \nTo register for this event\, please click here to download the PDF brochure and complete the attached Registration Form.Please fax the completed form to 086 212 4407 or email it to admin@rcci.co.za.\n \n\n			\n				\n					\n						\n							\n							Loading...\n						\n					\n					\n						\n							\n							Taking too long?\n						\n						\n							\n								 Reload document							\n							|\n							\n								 Open in new tab							\n					\n				\n			\n		Download
URL:https://rcci.co.za/event/export-boot-camp-2/
LOCATION:RCCI Head Office\, Unit G8 Atrium Terraces    272 Oak Avenue     Randburg\, Johannesburg\, Gauteng\, 2194\, South Africa
CATEGORIES:Import/Export Training
ATTACH;FMTTYPE=image/png:https://rcci.co.za/wp-content/uploads/2016/10/RCCI-symbol-800-420.png
ORGANIZER;CN="Linda Blackbeard":MAILTO:manager@rcci.co.za
END:VEVENT
BEGIN:VEVENT
DTSTART;VALUE=DATE:20170406
DTEND;VALUE=DATE:20170408
DTSTAMP:20260424T205340
CREATED:20170215T063913Z
LAST-MODIFIED:20170316T140714Z
UID:3859-1491436800-1491609599@rcci.co.za
SUMMARY:Import Boot Camp
DESCRIPTION:RCCI in partnership with UA Sales is hosting an IMPORT BOOT CAMP on the 6 & 7 April 2017. \nTime: 8am to 8:30am is registration\, and the day ends at 4pm\nVenue: Randburg Chamber of Commerce and Industry Training Room \nThis two-day workshop will kick start your learning process by providing all the necessary training to ensure that the learner has an understanding of best inter-processes\, South African government statutory requirements and how to import. \nThe content of this course covers the real-world application of how to effectively handle the technical aspect of export procedures. It is highly practical and will also highlight potential problems that could arise from not understanding processes and how to evade the pitfalls relating to exports! \nPractical exercises and the necessary documents are included in this workshop which will provide delegates with the need-to-know information and practical skills which can be easily implemented in the work-place. We have extended the time each day and focused our topics to cover the need to know! \nThe cost of the workshop is R3 450.00 per person for two days including meals\, parking\, workbook and CD-ROM with all presentations. \nTo register for this event\, please click here to download the PDF brochure and complete the attached Registration Form.Please fax the completed form to 086 212 4407 or email it to admin@rcci.co.za.\n \n\n			\n				\n					\n						\n							\n							Loading...\n						\n					\n					\n						\n							\n							Taking too long?\n						\n						\n							\n								 Reload document							\n							|\n							\n								 Open in new tab							\n					\n				\n			\n		Download
URL:https://rcci.co.za/event/import-boot-camp/
LOCATION:RCCI Head Office\, Unit G8 Atrium Terraces    272 Oak Avenue     Randburg\, Johannesburg\, Gauteng\, 2194\, South Africa
CATEGORIES:Import/Export Training
ATTACH;FMTTYPE=image/png:https://rcci.co.za/wp-content/uploads/2016/10/RCCI-symbol-800-420.png
ORGANIZER;CN="Linda Blackbeard":MAILTO:manager@rcci.co.za
END:VEVENT
BEGIN:VEVENT
DTSTART;TZID=Africa/Johannesburg:20170322T180000
DTEND;TZID=Africa/Johannesburg:20170322T193000
DTSTAMP:20260424T205340
CREATED:20170307T131627Z
LAST-MODIFIED:20170307T131627Z
UID:4013-1490205600-1490211000@rcci.co.za
SUMMARY:Schindlers Attorneys Talks About The CSOS Act
DESCRIPTION:Maike Gohl and Charlotter Clarke of Schindlers Attorneys will be sitting for a public interview on the Community Schemes Ombud Service Act \n18h00 \nWednesday 22 March 2017 \nRandburg Chamber of Commerce\nTraining Room\, Unit G8\, Atrium Terraces \n272 Oak Avenue Randburg \nFree to RCCI Members \nR50 for non-members
URL:https://rcci.co.za/event/schindlers-attorneys-talks-csos-act/
LOCATION:RCCI Head Office\, Unit G8 Atrium Terraces    272 Oak Avenue     Randburg\, Johannesburg\, Gauteng\, 2194\, South Africa
CATEGORIES:Schindlers Attorneys
ATTACH;FMTTYPE=image/jpeg:https://rcci.co.za/wp-content/uploads/2017/03/CSOS-lecture-Maike-and-Charlotte-22-March-2017-RCCI.jpg
ORGANIZER;CN="Linda Blackbeard":MAILTO:manager@rcci.co.za
END:VEVENT
BEGIN:VEVENT
DTSTART;TZID=Africa/Johannesburg:20170315T180000
DTEND;TZID=Africa/Johannesburg:20170315T193000
DTSTAMP:20260424T205340
CREATED:20170306T101022Z
LAST-MODIFIED:20170306T101319Z
UID:4003-1489600800-1489606200@rcci.co.za
SUMMARY:Schindlers Attorneys Talks About Prescription Of Electricity Charges
DESCRIPTION:Maike Gohl of Schindlers Attorneys will be sitting for a public interview on the prescription of electricity charges and the impact of the Argent judgment  \n18h00 \nWednesday 15 March 2017  \nRandburg Chamber of Commerce Training Room\, Unit G8\, Atrium Terraces\, 272 Oak Avenue\, Randburg \nFree to RCCI members \nR 50 to non-members \nTo RSVP email manager@RCCI.co.za
URL:https://rcci.co.za/event/schindlers-attorneys-talks-prescription-electricity-charges/
LOCATION:RCCI Head Office\, Unit G8 Atrium Terraces    272 Oak Avenue     Randburg\, Johannesburg\, Gauteng\, 2194\, South Africa
ATTACH;FMTTYPE=image/png:https://rcci.co.za/wp-content/uploads/2017/03/Argent-lecture-Maike-15-March-2017-RCCI.png
ORGANIZER;CN="Linda Blackbeard":MAILTO:manager@rcci.co.za
END:VEVENT
BEGIN:VEVENT
DTSTART;TZID=Africa/Johannesburg:20170217T083000
DTEND;TZID=Africa/Johannesburg:20170217T110000
DTSTAMP:20260424T205340
CREATED:20170216T051031Z
LAST-MODIFIED:20170216T051031Z
UID:3940-1487320200-1487329200@rcci.co.za
SUMMARY:TAB Free Business Accelerator Session
DESCRIPTION:
URL:https://rcci.co.za/event/tab-free-business-accelerator-session/
LOCATION:Dovetail Offices\, St Andrews Business Park Block A\, First Floor\,  Meadowbrook\, Sandton\, Johannesburg\, Gauteng\, 2021\, South Africa
CATEGORIES:The Advisory Boards
ATTACH;FMTTYPE=image/jpeg:https://rcci.co.za/wp-content/uploads/2017/02/TAB-Business-Accelerator-17th-February-2017-s.jpg
END:VEVENT
END:VCALENDAR