BEGIN:VCALENDAR
VERSION:2.0
PRODID:-//Randburg Chamber of Commerce and Industry - ECPv6.15.20//NONSGML v1.0//EN
CALSCALE:GREGORIAN
METHOD:PUBLISH
X-WR-CALNAME:Randburg Chamber of Commerce and Industry
X-ORIGINAL-URL:https://rcci.co.za
X-WR-CALDESC:Events for Randburg Chamber of Commerce and Industry
REFRESH-INTERVAL;VALUE=DURATION:PT1H
X-Robots-Tag:noindex
X-PUBLISHED-TTL:PT1H
BEGIN:VTIMEZONE
TZID:Africa/Johannesburg
BEGIN:STANDARD
TZOFFSETFROM:+0200
TZOFFSETTO:+0200
TZNAME:SAST
DTSTART:20160101T000000
END:STANDARD
END:VTIMEZONE
BEGIN:VEVENT
DTSTART;TZID=Africa/Johannesburg:20230815T083000
DTEND;TZID=Africa/Johannesburg:20230815T163000
DTSTAMP:20260423T151738
CREATED:20230706T113904Z
LAST-MODIFIED:20230706T121552Z
UID:16619-1692088200-1692117000@rcci.co.za
SUMMARY:Comprehensive Online Employment Equity Workshop
DESCRIPTION:During the workshop you will be able to determine whether your Company: \n\n\n\n\nIs a Designated Employer employing 50+ employees (including temporary) and the requirements.\n\n\n\nIs a Non-Designated Employer employing less than 50 employees (including temporary)\, whetheryou need a Sections 16B certificate and the requirements.\n\n\n\nIs a Non-Designated Employer employing less than 50 employees (including temporary)\, does notneed a Section 16B certificate and the future deregistration requirements.Your investment:\n\n\n\nR 4 950.00 Ex VAT for the session\, including deliverables (via e-mail)\, unlimited number ofemployees within your Organisation can attend at no additional cost (a link will be sent on receiptof your Company details and once we confirm the session to proceed\, invoice payable only AFTERthe online workshop).\n\n\n\n\nDates:The following dates are available.Delegates can attend any or all dates as time fits them\, one unique link per Company to be provided\,same discussions on all dates.Tuesday\, 15 August 2023 from 08:30 to 16:30 and / orThursday\, 17 August 2023 from 08:30 to 16:30 and / orWednesday\, 23 August 2023 from 08:30 to 16:30 \n\n\n\nFull invitation: \n\n\n\nInvitation-Points-of-Discussion-All-inclusive-EE-workshopDownload\n\n\n\n\nEECMS believes that the EE Act and EE Forms will be amended on or before 1 August 2023\, after which Designated Employers will need to draft and implement a new EAP Analysis and EE Plan.\n\n\n\n\n\nEECMS will host an online EE workshop as per the attached invitation.\n\n\n\n\n\nShould the EE Act be amended and Gazetted on or before 1 August 2023\, we will proceed with the online workshop.\n\n\n\n\n\nShould the EE Act not be amended and Gazetted\, we will not proceed\, but will keep you posted on future events.\n\n\n\n\nPlease contact helena@employmentecompliance.co.za to book.
URL:https://rcci.co.za/event/comprehensive-online-employment-equity-workshop/
CATEGORIES:Training,Virtual Event
ATTACH;FMTTYPE=image/png:https://rcci.co.za/wp-content/uploads/2023/07/eecms-800x533-1.png
END:VEVENT
BEGIN:VEVENT
DTSTART;TZID=Africa/Johannesburg:20191104T090000
DTEND;TZID=Africa/Johannesburg:20191104T133000
DTSTAMP:20260423T151738
CREATED:20190902T085219Z
LAST-MODIFIED:20191101T020536Z
UID:9188-1572858000-1572874200@rcci.co.za
SUMMARY:Training: Incoterms® 2020
DESCRIPTION:Training now available to our import and export customers. \n\n\n\nYou need to attend this training as these\nnew rules will be implemented on the 1st January 2020 \n\n\n\nThese affect –   your VAT\, your\ndocumentation\, your contracts\, costings and all imports and exports. \n\n\n\nDATE:                                 4th November (HALF DAY COURSE) \n\n\n\nREGISTRATION:\n               8:30 – 9:00 \n\n\n\nTIME:                                 \n9:00 – 13:30  \n\n\n\nVENUE:                              \nRCCI TRAINING ROOM \n\n\n\nADDRESS:                         \n272 OAK AVE: ATRIUM TERRACES; RANDBURG \n\n\n\nCOST\n                                 \n \n\n\n\n(PER PERSON):\n               \nCHAMBER MEMBERS: R850.00 \n\n\n\n                             \n              \nNON CHAMBER MEMBERS: R1200:00 \n\n\n\nYou will be sent\nan invoice \n\n\n\nAll payments\nmust be made in full\, prior to the event \n\n\n\nRSVP:                                 \nLinda Duxbury at linda@usasaleonline.com
URL:https://rcci.co.za/event/training-incoterms-2020-november/
LOCATION:RCCI Head Office\, Unit G8 Atrium Terraces    272 Oak Avenue     Randburg\, Johannesburg\, Gauteng\, 2194\, South Africa
CATEGORIES:Training
ATTACH;FMTTYPE=image/jpeg:https://rcci.co.za/wp-content/uploads/2019/09/incoterms-2020-1.jpg
END:VEVENT
BEGIN:VEVENT
DTSTART;TZID=Africa/Johannesburg:20191024T090000
DTEND;TZID=Africa/Johannesburg:20191024T133000
DTSTAMP:20260423T151738
CREATED:20190902T084843Z
LAST-MODIFIED:20190902T113505Z
UID:9187-1571907600-1571923800@rcci.co.za
SUMMARY:Training: Incoterms® 2020
DESCRIPTION:Training now available to our import and export customers. \n\n\n\nYou need to attend this training as these\nnew rules will be implemented on the 1st January 2020 \n\n\n\nThese affect –   your VAT\, your\ndocumentation\, your contracts\, costings and all imports and exports. \n\n\n\nDATE:                                 20th September (HALF DAY COURSES) \n\n\n\nThis training will be repeated on 4th November 2019 \n\n\n\nREGISTRATION:\n               8:30 – 9:00 \n\n\n\nTIME:                                 \n9:00 – 13:30  \n\n\n\nVENUE:                              \nRCCI TRAINING ROOM \n\n\n\nADDRESS:                         \n272 OAK AVE: ATRIUM TERRACES; RANDBURG \n\n\n\nCOST\n                                 \n \n\n\n\n(PER PERSON):\n               \nCHAMBER MEMBERS: R850.00 \n\n\n\n                             \n              \nNON CHAMBER MEMBERS: R1200:00 \n\n\n\nYou will be sent\nan invoice \n\n\n\nAll payments\nmust be made in full\, prior to the event \n\n\n\nRSVP:                                 \nLinda Duxbury at linda@usasaleonline.com
URL:https://rcci.co.za/event/training-incoterms-2020-october/
LOCATION:RCCI Head Office\, Unit G8 Atrium Terraces    272 Oak Avenue     Randburg\, Johannesburg\, Gauteng\, 2194\, South Africa
CATEGORIES:Training
ATTACH;FMTTYPE=image/jpeg:https://rcci.co.za/wp-content/uploads/2019/09/incoterms-2020-1.jpg
END:VEVENT
BEGIN:VEVENT
DTSTART;TZID=Africa/Johannesburg:20190920T090000
DTEND;TZID=Africa/Johannesburg:20190920T133000
DTSTAMP:20260423T151738
CREATED:20190902T095611Z
LAST-MODIFIED:20190902T113734Z
UID:9180-1568970000-1568986200@rcci.co.za
SUMMARY:Training: Incoterms® 2020
DESCRIPTION:Training now available to our import and export customers. \n\n\n\nYou need to attend this training as these\nnew rules will be implemented on the 1st January 2020 \n\n\n\nThese affect –   your VAT\, your\ndocumentation\, your contracts\, costings and all imports and exports. \n\n\n\nDATE:                                 20th September (HALF DAY COURSES) \n\n\n\nThis training will be repeated on 24th October 2019 and on  4th November 2019  \n\n\n\nREGISTRATION:\n               8:30 – 9:00 \n\n\n\nTIME:                                 \n9:00 – 13:30  \n\n\n\nVENUE:                              \nRCCI TRAINING ROOM \n\n\n\nADDRESS:                         \n272 OAK AVE: ATRIUM TERRACES; RANDBURG \n\n\n\nCOST\n                                 \n \n\n\n\n(PER PERSON):\n               \nCHAMBER MEMBERS: R850.00 \n\n\n\n                             \n              \nNON CHAMBER MEMBERS: R1200:00 \n\n\n\nYou will be sent\nan invoice \n\n\n\nAll payments\nmust be made in full\, prior to the event \n\n\n\nRSVP:                                 \nLinda Duxbury at linda@usasaleonline.com
URL:https://rcci.co.za/event/training-incoterms-2020-september/
LOCATION:RCCI Head Office\, Unit G8 Atrium Terraces    272 Oak Avenue     Randburg\, Johannesburg\, Gauteng\, 2194\, South Africa
CATEGORIES:Training
ATTACH;FMTTYPE=image/jpeg:https://rcci.co.za/wp-content/uploads/2019/09/incoterms-2020-1.jpg
END:VEVENT
BEGIN:VEVENT
DTSTART;VALUE=DATE:20171115
DTEND;VALUE=DATE:20171118
DTSTAMP:20260423T151738
CREATED:20171027T081758Z
LAST-MODIFIED:20171027T081758Z
UID:5148-1510704000-1510963199@rcci.co.za
SUMMARY:Team Business Enterprise Simulator
DESCRIPTION:The Business Place School of Entrepreneurship is running a three day training program in collaboration with Nedbank for SMMEs during the Global Entrepreneurship Week. Businesses turning over R200k pa and who have been running for more than 12 months are able to apply. \nWhen: 15th – 17th November 2017 \nThe booking closes by 8 November 2017 and we have 120 spaces open across four training locations – 30 seats per venue (Venues: Soweto\, Roodepoort\, Randburg\, JHB). \nContact any of the following branches and book your space :\nRandburg: 086 101 9218\nSoweto: 010 492 3792\nRoodepoort: 011 761 0423\nJohannesburg: 011 833 0340\nOur navigators will help you book your space and talk you through the process. \n			\n				\n					\n						\n							\n							Loading...\n						\n					\n					\n						\n							\n							Taking too long?\n						\n						\n							\n								 Reload document							\n							|\n							\n								 Open in new tab							\n					\n				\n			\n		Download   \n 
URL:https://rcci.co.za/event/team-business-enterprise-simulator/
CATEGORIES:Training,Workshop
ATTACH;FMTTYPE=image/png:https://rcci.co.za/wp-content/uploads/2016/10/The-Business-Place.png
END:VEVENT
END:VCALENDAR