BEGIN:VCALENDAR
VERSION:2.0
PRODID:-//Randburg Chamber of Commerce and Industry - ECPv6.15.20//NONSGML v1.0//EN
CALSCALE:GREGORIAN
METHOD:PUBLISH
X-ORIGINAL-URL:https://rcci.co.za
X-WR-CALDESC:Events for Randburg Chamber of Commerce and Industry
REFRESH-INTERVAL;VALUE=DURATION:PT1H
X-Robots-Tag:noindex
X-PUBLISHED-TTL:PT1H
BEGIN:VTIMEZONE
TZID:Africa/Johannesburg
BEGIN:STANDARD
TZOFFSETFROM:+0200
TZOFFSETTO:+0200
TZNAME:SAST
DTSTART:20160101T000000
END:STANDARD
END:VTIMEZONE
BEGIN:VEVENT
DTSTART;TZID=Africa/Johannesburg:20171031T100000
DTEND;TZID=Africa/Johannesburg:20171031T120000
DTSTAMP:20260423T044128
CREATED:20171020T080343Z
LAST-MODIFIED:20171020T080343Z
UID:5087-1509444000-1509451200@rcci.co.za
SUMMARY:Randburg Chamber of Commerce & Industry AGM
DESCRIPTION:RANDBURG CHAMBER OF COMMERCE AND INDUSTRY NPC \nRegistration number 2016/323580/08 \n(“RCCI” or “the Company” or “the Chamber”) \nNOTICE TO MEMBERS \nNotice is hereby given that the Annual General Meeting (“AGM”) of the Company for the year ended 31 July 2017 will be held at the RCCI offices\, Ground Floor\, Atrium Terraces\, 272 Oak Avenue\, Randburg at 10h00 on Tuesday 31 October 2017.\nPaid up Members of Good Standing are eligible to attend\, speak and vote at this annual general meeting\, and all meeting participants will be required to provide proof of identification to the Chairman of the meeting. Members are entitled to vote on a show of hands\, one vote per member (not per person). \nMembers entitled to attend\, speak and vote at this meeting may appoint a proxy to attend\, speak and vote in their place if they are unable to attend in person. A form of proxy is available from the administration of the RCCI at admin@rcci.co.za\, or call +27 86 101-9218. \nThe purpose of the annual general meeting is the following: \n\nTo receive and adopt the annual report of the Executive Committee.\nTo receive and adopt the annual financial statements of the Chamber for the year ended 31 July 2017\, together with the report of the Directors and the Accountant. The annual financial statements shall be available at the offices of the Chamber for perusal by members from 10 days prior to the AGM.\nTo receive the President’s Report on the activities of the Chamber in the past year\nTo consider and vote individually on the nominations for vacancies on the Executive Committee.\nTo confirm the office bearers proposed by the Executive Committee\, being the President\, the Vice President\, and the Second Vice President\, for the 2017/2018 year.\nTo receive the report of the Chief Executive Officer for the year under review.\nGeneral matters;\n Closure.\n\nKindly confirm your attendance or non-attendance at the upcoming AGM to manager@rcci.co.za on or before Friday 27 October 2017. \nBY ORDER OF THE BOARD \n10 October 2017
URL:https://rcci.co.za/event/randburg-chamber-commerce-industry-agm/
LOCATION:RCCI Head Office\, Unit G8 Atrium Terraces    272 Oak Avenue     Randburg\, Johannesburg\, Gauteng\, 2194\, South Africa
CATEGORIES:AGM
ATTACH;FMTTYPE=image/png:https://rcci.co.za/wp-content/uploads/2016/10/RCCI-symbol-800-420.png
ORGANIZER;CN="Linda Blackbeard":MAILTO:manager@rcci.co.za
END:VEVENT
END:VCALENDAR